BEGIN:VCALENDAR
VERSION:2.0
PRODID:-//Flux Factory - ECPv6.15.20//NONSGML v1.0//EN
CALSCALE:GREGORIAN
METHOD:PUBLISH
X-ORIGINAL-URL:https://www.fluxfactory.org
X-WR-CALDESC:Events for Flux Factory
REFRESH-INTERVAL;VALUE=DURATION:PT1H
X-Robots-Tag:noindex
X-PUBLISHED-TTL:PT1H
BEGIN:VTIMEZONE
TZID:America/New_York
BEGIN:DAYLIGHT
TZOFFSETFROM:-0500
TZOFFSETTO:-0400
TZNAME:EDT
DTSTART:20190310T070000
END:DAYLIGHT
BEGIN:STANDARD
TZOFFSETFROM:-0400
TZOFFSETTO:-0500
TZNAME:EST
DTSTART:20191103T060000
END:STANDARD
BEGIN:DAYLIGHT
TZOFFSETFROM:-0500
TZOFFSETTO:-0400
TZNAME:EDT
DTSTART:20200308T070000
END:DAYLIGHT
BEGIN:STANDARD
TZOFFSETFROM:-0400
TZOFFSETTO:-0500
TZNAME:EST
DTSTART:20201101T060000
END:STANDARD
BEGIN:DAYLIGHT
TZOFFSETFROM:-0500
TZOFFSETTO:-0400
TZNAME:EDT
DTSTART:20210314T070000
END:DAYLIGHT
BEGIN:STANDARD
TZOFFSETFROM:-0400
TZOFFSETTO:-0500
TZNAME:EST
DTSTART:20211107T060000
END:STANDARD
END:VTIMEZONE
BEGIN:VEVENT
DTSTART;TZID=America/New_York:20200219T080000
DTEND;TZID=America/New_York:20200219T170000
DTSTAMP:20260424T114928
CREATED:20200124T224428Z
LAST-MODIFIED:20211108T072416Z
UID:25967-1582099200-1582131600@www.fluxfactory.org
SUMMARY:After You: Carlos David TC + Cameron A Granger
DESCRIPTION:AFTER YOU\nFebruary 19 – 23\nCarlos David TC + Cameron A Granger \nSpecial event: Heartflux Hotel\nFeb 14\, 9pm – 1am\nWhere hearts don’t break\, they’re only in flux.  \nFeb 19\, 7pm Opening\nFeb 23\, TBD Closing + Artist Talk \nPlease share on Facebook \nAfter you is a two person exhibition of video and installation works by Carlos David TC and Cameron A. Granger. \nDrawing on their personal and shared histories\, the places they call home and the digital spaces they frequent\, the duo looks to find a new home through the work of one another. \n“After You is dedicated to the wonderful gift of being loved by the ones we love\, and the life that gift can bring.” – Carlos + Cameron \nCameron A. Granger came up in Cleveland\, Ohio alongside his mother\, Sandra\, inheriting both her love of soul music\, and a habit of apologizing too much. A 2017 student of the Skowhegan School of Painting &amp; Sculpture\, his work explores his place and role as a product of American history and media. His most recent projects include “Ten Toes Down” at the Museum of Contemporary Photography in Chicago\, “Pearl” a body of collaborative works with his mother at Ctrl+Shft in Oakland\, and “A library\, for you” a traveling community library founded in Cincinnati\, Ohio. \nCarlos David TC is a Miami based multidisciplinary artist who explores identity in the digital space.
URL:https://www.fluxfactory.org/event/after-you/
CATEGORIES:Residency Shows
ATTACH;FMTTYPE=image/jpeg:https://www.fluxfactory.org/wp-content/uploads/2020/01/Horizontal.jpg
END:VEVENT
END:VCALENDAR