BEGIN:VCALENDAR
VERSION:2.0
PRODID:-//Flux Factory - ECPv6.15.20//NONSGML v1.0//EN
CALSCALE:GREGORIAN
METHOD:PUBLISH
X-WR-CALNAME:Flux Factory
X-ORIGINAL-URL:https://www.fluxfactory.org
X-WR-CALDESC:Events for Flux Factory
REFRESH-INTERVAL;VALUE=DURATION:PT1H
X-Robots-Tag:noindex
X-PUBLISHED-TTL:PT1H
BEGIN:VTIMEZONE
TZID:America/New_York
BEGIN:DAYLIGHT
TZOFFSETFROM:-0500
TZOFFSETTO:-0400
TZNAME:EDT
DTSTART:20200308T070000
END:DAYLIGHT
BEGIN:STANDARD
TZOFFSETFROM:-0400
TZOFFSETTO:-0500
TZNAME:EST
DTSTART:20201101T060000
END:STANDARD
BEGIN:DAYLIGHT
TZOFFSETFROM:-0500
TZOFFSETTO:-0400
TZNAME:EDT
DTSTART:20210314T070000
END:DAYLIGHT
BEGIN:STANDARD
TZOFFSETFROM:-0400
TZOFFSETTO:-0500
TZNAME:EST
DTSTART:20211107T060000
END:STANDARD
BEGIN:DAYLIGHT
TZOFFSETFROM:-0500
TZOFFSETTO:-0400
TZNAME:EDT
DTSTART:20220313T070000
END:DAYLIGHT
BEGIN:STANDARD
TZOFFSETFROM:-0400
TZOFFSETTO:-0500
TZNAME:EST
DTSTART:20221106T060000
END:STANDARD
END:VTIMEZONE
BEGIN:VEVENT
DTSTART;TZID=America/New_York:20210112T080000
DTEND;TZID=America/New_York:20210214T190000
DTSTAMP:20260422T013208
CREATED:20200411T152726Z
LAST-MODIFIED:20210218T210947Z
UID:27055-1610438400-1613329200@www.fluxfactory.org
SUMMARY:2021 Flux Factory Fundraising Exhibition
DESCRIPTION:Flyer made by Cayla Lockwood using “Jeviwear” prints by Jevijoe Vitug\nFLUX FACTORY FUNDRAISING EXHIBITION\nJanuary 12 – February 14\n \nVISIT THE EXHIBITION HERE \nRegister for the Virtual Gala Feb 10th\, 7pm EST \nIn place of our Annual Art Auction\, which would now be in its 14th year\, we are hosting a digital Fundraising Exhibition and Virtual Gala.  \nYou can now support Flux Factory by buying one of over 40 artworks between $40 and $1900. Add some beauty to your home\, and help Flux Factory continue to be a center of community and experimentation. While it may be awhile before we’re eating and dancing together in the Flux gallery\, with your support\, we can dance together into the future.  \nThe Flux Factory Fundraising Exhibition features stunning works by both emerging and established contemporary artists working today: \nSmokie Arce | Amir Badawi | Allen Ball | Chris Bogia | Jeanne Brasile | Deric Carner | Bill Carroll | Kerry Cox | Danny Crump | Sarah Dahlinger | Mark Dion | Ayana Evans | Flux Factory Collective | Guido Garaycochea | Jesse Harrod | Kohlman Harshbarger | Wieteke Heldens | Pablo Helguera | Lexy Ho Tai | Nung-Hsin Hu | Invader | Melissa Joseph | Aya Kakeda | Vaidehi Kinkhabwala | Tina Kohlmann |  Tzu-Huan Lin | Cayla Lockwood | Heather Lynn Johnson | Jemila MacEwan | Lily Moebes | Natalia Nakazawa | Kira Nam Greene | Will Owen | Jorge Palacios | Caroline Partamian | Alex Schechter | Eleanor Scholz | Tod Seelie | Ward Shelley | Alisa Sikelianos-Carter | Jonathan Sims | Swoon | Talajoon | Eleni Theodora Zaharopoulos | Winnie van der Rijn | Jevijoe Vitug | Jaimie Warren | Beatrice Wolert | Amia Yokoyama | Jade Yumang \n\nFLUX FACTORY VIRTUAL GALA\nFebruary 10\, 7pm EST\nZoom link sent upon registration \nThe Virtual Gala will include one hour of programming\, followed by 30 minutes of music by long-time Flux DJ\, Vinyl Richie. \nWe will be honoring two people whose work epitomizes Flux Factory’s values and goals: Queens community activist Lashawn “Suga Ray” Marston and Visual Artist Saya Woolfalk. \nThe event will also include a conversation about art and an ever changing NYC with Saya Woolfalk and Flux Factory Board Member Natalia Nakazawa\, as well as featured artworks from the Fundraising Exhibition\, a raffle and more. \nImage Description: On black\, bold sans serif font reads: Flux Factory Fundraising Exhibition. 1.12 – 2.14 2021. The front of the letters are a very light lilac and fade into a colorful mottling textures of purples\, blues\, pinks and flashes of orange. 
URL:https://www.fluxfactory.org/event/fundraising_exhibition/
ATTACH;FMTTYPE=image/png:https://www.fluxfactory.org/wp-content/uploads/2021/01/websitebanner.png
END:VEVENT
BEGIN:VEVENT
DTSTART;TZID=America/New_York:20210210T190000
DTEND;TZID=America/New_York:20210210T200000
DTSTAMP:20260422T013208
CREATED:20200420T180132Z
LAST-MODIFIED:20210211T212707Z
UID:27083-1612983600-1612987200@www.fluxfactory.org
SUMMARY:2021 Flux Factory Virtual Gala
DESCRIPTION:REGISTER HERE\nZoom link is sent upon registration.\nFree to attend! \nFlux Factory invites you to join us on February 10th @ 7pm EST\, to celebrate our amazing community and to mark the completion of our Fundraising Exhibition. \nWe are thrilled to announce this year’s Honorees – Saya Woolfalk and Lashawn “Suga Ray” Marston. Suga Ray and Saya will join us for the Gala and Saya will speak to Flux Factory Board Member and visual artist Natalia Nakazawa about their time as emerging artists in a changing New York. \nThe event will run one hour with the participation of Fluxers all around the world and includes hot news about the future of Flux Factory\, a raffle and more. It will be followed by 30 minutes of music by longtime Flux DJ Vinyl Richie. \n\n2021 Honorees\n \n\nSaya Woolfalk is a New York based artist who uses science fiction and fantasy to re-imagine the world in multiple dimensions.  She has exhibited at museums\, galleries\, and alternative spaces throughout Asia\, Europe and the United States including numerous solo exhibitions and group shows at the Studio Museum in Harlem; MoMA PS1\, Long Island City\, NY; the Warhol Museum\, Pittsburgh\, PA.\, the Museum of Contemporary Art\, Chicago\, among many others. \nWorks by the artist are in the collections of major institutions including\, among others\, the Whitney Museum of American Art; the Mead Art Museum and the Weatherspoon Art Museum. Woolfalk is the recipient of numerous honors\, awards\, and commissions. She has delivered numerous public lectures at museums and universities throughout the United States. She is represented by Leslie Tonkonow Artworks + Projects\, New York and teaches in MFA program at Yale School of Art as well as in the BFA and MFA programs at Parsons: The New School for Design. \n\n\n\nLashawn “Suga Ray” Marston\, born on March 14th\, 1984\, would endure a lifetime worth of pain by the time he was only 20 years of age; including losing his dad and oldest sister to cancer\, getting shot\, going to prison\, and witnessing friends killed by friends. Through a constant reflection of self and his surroundings\, he found his way since 2008 has been committed to assisting in the elevation of humanity and the liberation of all oppressed people. \nSince his transformation\, “Suga Ray” would go on to receive numerous honors and awards from high ranking government officials\, his peers\, and countless others he has worked with\, on various fronts\, from various parts of the World. None of that has changed him as he remains committed to the mission of healing our hurting world\, and thus gives much more than he receives. “Suga Ray” is a peace activist\, food activist\, spiritual guide\, community builder\, public speaker\, universal educator\, program developer\, writer\, artist\, humanitarian\, podcast host\, and Founder of Transform America\, a community based organization operating predominantly in Queensnbridge Houses.
URL:https://www.fluxfactory.org/event/2021-flux-factory-virtual-gala/
LOCATION:Via Zoom
ATTACH;FMTTYPE=image/jpeg:https://www.fluxfactory.org/wp-content/uploads/2021/01/fluxgala_sm_01_websitebanner-scaled.jpg
END:VEVENT
END:VCALENDAR