BEGIN:VCALENDAR
VERSION:2.0
PRODID:-//Flux Factory - ECPv6.15.20//NONSGML v1.0//EN
CALSCALE:GREGORIAN
METHOD:PUBLISH
X-ORIGINAL-URL:https://www.fluxfactory.org
X-WR-CALDESC:Events for Flux Factory
REFRESH-INTERVAL;VALUE=DURATION:PT1H
X-Robots-Tag:noindex
X-PUBLISHED-TTL:PT1H
BEGIN:VTIMEZONE
TZID:Europe/Copenhagen
BEGIN:DAYLIGHT
TZOFFSETFROM:+0100
TZOFFSETTO:+0200
TZNAME:CEST
DTSTART:20200329T010000
END:DAYLIGHT
BEGIN:STANDARD
TZOFFSETFROM:+0200
TZOFFSETTO:+0100
TZNAME:CET
DTSTART:20201025T010000
END:STANDARD
BEGIN:DAYLIGHT
TZOFFSETFROM:+0100
TZOFFSETTO:+0200
TZNAME:CEST
DTSTART:20210328T010000
END:DAYLIGHT
BEGIN:STANDARD
TZOFFSETFROM:+0200
TZOFFSETTO:+0100
TZNAME:CET
DTSTART:20211031T010000
END:STANDARD
BEGIN:DAYLIGHT
TZOFFSETFROM:+0100
TZOFFSETTO:+0200
TZNAME:CEST
DTSTART:20220327T010000
END:DAYLIGHT
BEGIN:STANDARD
TZOFFSETFROM:+0200
TZOFFSETTO:+0100
TZNAME:CET
DTSTART:20221030T010000
END:STANDARD
END:VTIMEZONE
BEGIN:VEVENT
DTSTART;TZID=Europe/Copenhagen:20210807T140000
DTEND;TZID=Europe/Copenhagen:20210807T160000
DTSTAMP:20260422T093929
CREATED:20210803T200950Z
LAST-MODIFIED:20210805T173029Z
UID:28349-1628344800-1628352000@www.fluxfactory.org
SUMMARY:Creative tools for art-making\, community building and publishing with Lee Tusman
DESCRIPTION:Produced by Lee Tusman in collaboration with Code&Share[  ] Community and Cantina \nImagine if all illustrators were required to use the same brand and design of #2 pencils or if all photographers could use only one type of camera and film and pay a monthly fee for their continued use. This is the situation today for today’s largest (and best-marketed) digital artmaking suites like Adobe Creative Suite. But a whole world of other exciting\, experimental and artist-friendly tools exist beyond the confines of this. This workshop on creative tools is built for artists\, and small DIY communities\, covering possibilities of image production\, drawing\, photographing\, organizing and experiments. \nIn this workshop we will start with a brief overview of artmaking tools that are alternatives to commercial offerings and then launch into a range of many other experimental and exciting artist software tools such as zine making tools (Electric Zine Maker)\, digital painting software (Krita\, JS Paint)\, painting tools that allow one to collaboratively draw with a computer (NoPaint)\, 3d object scanning (Meshroom)\, and many more. Participants will create mini projects with these tools which we will document with photos and screenshots. By the end of the session we will produce a collaborative zine about these tools and showing the work we’ve created\, with the goal of making this resource available for artists everywhere.
URL:https://www.fluxfactory.org/event/creative-tools-for-art-making-community-building-and-publishing/
LOCATION:ARoS Public\, Aros Allé 2\, Aarhus\, Denmark
CATEGORIES:Aarhus Events
ATTACH;FMTTYPE=image/jpeg:https://www.fluxfactory.org/wp-content/uploads/2021/08/flyer.jpg
ORGANIZER;CN="Flux Factory":MAILTO:nat@fluxfactory.org
END:VEVENT
END:VCALENDAR