BEGIN:VCALENDAR
VERSION:2.0
PRODID:-//Flux Factory - ECPv6.15.20//NONSGML v1.0//EN
CALSCALE:GREGORIAN
METHOD:PUBLISH
X-WR-CALNAME:Flux Factory
X-ORIGINAL-URL:https://www.fluxfactory.org
X-WR-CALDESC:Events for Flux Factory
REFRESH-INTERVAL;VALUE=DURATION:PT1H
X-Robots-Tag:noindex
X-PUBLISHED-TTL:PT1H
BEGIN:VTIMEZONE
TZID:America/New_York
BEGIN:DAYLIGHT
TZOFFSETFROM:-0500
TZOFFSETTO:-0400
TZNAME:EDT
DTSTART:20210314T070000
END:DAYLIGHT
BEGIN:STANDARD
TZOFFSETFROM:-0400
TZOFFSETTO:-0500
TZNAME:EST
DTSTART:20211107T060000
END:STANDARD
BEGIN:DAYLIGHT
TZOFFSETFROM:-0500
TZOFFSETTO:-0400
TZNAME:EDT
DTSTART:20220313T070000
END:DAYLIGHT
BEGIN:STANDARD
TZOFFSETFROM:-0400
TZOFFSETTO:-0500
TZNAME:EST
DTSTART:20221106T060000
END:STANDARD
BEGIN:DAYLIGHT
TZOFFSETFROM:-0500
TZOFFSETTO:-0400
TZNAME:EDT
DTSTART:20230312T070000
END:DAYLIGHT
BEGIN:STANDARD
TZOFFSETFROM:-0400
TZOFFSETTO:-0500
TZNAME:EST
DTSTART:20231105T060000
END:STANDARD
END:VTIMEZONE
BEGIN:VTIMEZONE
TZID:Europe/Helsinki
BEGIN:DAYLIGHT
TZOFFSETFROM:+0200
TZOFFSETTO:+0300
TZNAME:EEST
DTSTART:20210328T010000
END:DAYLIGHT
BEGIN:STANDARD
TZOFFSETFROM:+0300
TZOFFSETTO:+0200
TZNAME:EET
DTSTART:20211031T010000
END:STANDARD
BEGIN:DAYLIGHT
TZOFFSETFROM:+0200
TZOFFSETTO:+0300
TZNAME:EEST
DTSTART:20220327T010000
END:DAYLIGHT
BEGIN:STANDARD
TZOFFSETFROM:+0300
TZOFFSETTO:+0200
TZNAME:EET
DTSTART:20221030T010000
END:STANDARD
BEGIN:DAYLIGHT
TZOFFSETFROM:+0200
TZOFFSETTO:+0300
TZNAME:EEST
DTSTART:20230326T010000
END:DAYLIGHT
BEGIN:STANDARD
TZOFFSETFROM:+0300
TZOFFSETTO:+0200
TZNAME:EET
DTSTART:20231029T010000
END:STANDARD
END:VTIMEZONE
BEGIN:VEVENT
DTSTART;TZID=America/New_York:20220811T140000
DTEND;TZID=America/New_York:20220811T190000
DTSTAMP:20260422T063352
CREATED:20220710T010957Z
LAST-MODIFIED:20220730T185753Z
UID:30913-1660226400-1660244400@www.fluxfactory.org
SUMMARY:Into the Limelight Workshop Hours
DESCRIPTION:During these workshop hours guests are invited to come to the cell to share stories\, photographs\, and memorabilia from their past experiences in nightclubs. Audio recordings and video or photos will be taken to preserve and archive those stories with permission from the narrator. All are welcome!   \n\n\n\n\n\n\n\nThis event is part of the Pink Flamingo: Clubs In Flux Group Exhibition at the cell theatre. \n\n\n\nA note on accessibility: Unfortunately\, the cell is not wheelchair-accessible and visitors must go up a flight of stairs to access the space on the second floor.
URL:https://www.fluxfactory.org/event/into-the-limelight-open-studio-hours-2/
LOCATION:Nancy Manocherian’s the cell theatre\, 338 W 23rd St\, New York\, New York\, United States
CATEGORIES:Homepage Events,Into the Limelight
ATTACH;FMTTYPE=image/jpeg:https://www.fluxfactory.org/wp-content/uploads/2022/07/AndrewFish_Limelight-3-scaled.jpg
END:VEVENT
BEGIN:VEVENT
DTSTART;TZID=Europe/Helsinki:20220811T180000
DTEND;TZID=Europe/Helsinki:20220811T210000
DTSTAMP:20260422T063352
CREATED:20220718T142221Z
LAST-MODIFIED:20220728T221541Z
UID:31116-1660240800-1660251600@www.fluxfactory.org
SUMMARY:i would die 2 u
DESCRIPTION:Friends and Lovers\, come to Flux Factory’s latest showing of multimedia composition at the ARoS Auditorium. Expect filmic interludes\, the sounds of badgers cooing and cawing\, a daxophone orchestra\, the gentle hum of electronic music in the forest\, and a baby. \n\n\n\nCatalina Alvarez will present new films. She makes choreographed films and experimental musicals. In her anthology documentary\, Sound Spring\, residents of Yellow Springs\, Ohio become actors lip-syncing to their own interviews\, narrating their village’s role in American history over hundreds of years. Her 16mm shorts include Paco\, the story of a man who wants you to bounce on his lap. With this film and all her others\, Catalina Alvarez gets to know her neighbors. \n\n\n\nDaniel Fishkin will present a daxophone concert. Composer\, sound artist\, and instrument builder. Completely ambivalent about music. Daniel studied with composer Maryanne Amacher and with multi-instrumentalist Mark Stewart. He has performed as a soloist on modular synthesizer with the American Symphony Orchestra\, developed sound installations in abandoned concert halls\, and played innumerable basement punk shows. Daniel’s lifework investigating the aesthetics of hearing damage has received international press (Nature Journal\, 2014); as an ally in the search for a cure\, he has been awarded the title of  “tinnitus ambassador” by the Deutsche Tinnitus-Stiftung. He is the only luthier that studied with the daxophone’s inventor\, Hans Reichel. \n\n\n\nRSVP on Facebook for this event
URL:https://www.fluxfactory.org/event/i-would-die-2-u/
LOCATION:ARoS Public\, Aros Allé 2\, Aarhus\, Denmark
CATEGORIES:Aarhus Events
ATTACH;FMTTYPE=image/jpeg:https://www.fluxfactory.org/wp-content/uploads/2022/07/daxophone-7-1.jpeg
END:VEVENT
END:VCALENDAR