BEGIN:VCALENDAR
VERSION:2.0
PRODID:-//Flux Factory - ECPv6.15.20//NONSGML v1.0//EN
CALSCALE:GREGORIAN
METHOD:PUBLISH
X-ORIGINAL-URL:https://www.fluxfactory.org
X-WR-CALDESC:Events for Flux Factory
REFRESH-INTERVAL;VALUE=DURATION:PT1H
X-Robots-Tag:noindex
X-PUBLISHED-TTL:PT1H
BEGIN:VTIMEZONE
TZID:America/New_York
BEGIN:DAYLIGHT
TZOFFSETFROM:-0500
TZOFFSETTO:-0400
TZNAME:EDT
DTSTART:20220313T070000
END:DAYLIGHT
BEGIN:STANDARD
TZOFFSETFROM:-0400
TZOFFSETTO:-0500
TZNAME:EST
DTSTART:20221106T060000
END:STANDARD
BEGIN:DAYLIGHT
TZOFFSETFROM:-0500
TZOFFSETTO:-0400
TZNAME:EDT
DTSTART:20230312T070000
END:DAYLIGHT
BEGIN:STANDARD
TZOFFSETFROM:-0400
TZOFFSETTO:-0500
TZNAME:EST
DTSTART:20231105T060000
END:STANDARD
BEGIN:DAYLIGHT
TZOFFSETFROM:-0500
TZOFFSETTO:-0400
TZNAME:EDT
DTSTART:20240310T070000
END:DAYLIGHT
BEGIN:STANDARD
TZOFFSETFROM:-0400
TZOFFSETTO:-0500
TZNAME:EST
DTSTART:20241103T060000
END:STANDARD
END:VTIMEZONE
BEGIN:VEVENT
DTSTART;TZID=America/New_York:20230128T130000
DTEND;TZID=America/New_York:20230128T150000
DTSTAMP:20260424T100135
CREATED:20230126T202748Z
LAST-MODIFIED:20231023T183238Z
UID:31925-1674910800-1674918000@www.fluxfactory.org
SUMMARY:Ceremony: Self-Care for Collective Liberation by Rebecca KellyG
DESCRIPTION:Ceremony is a an interactive sound experience for releasing limitations and cultivating inner abundance. \n\n\n\nIn this workshop we will start to disentangle from the ideas of “self” given to us by the oppressive systems we live within and begin tapping into our own gold. Through live soundscapes\, self-reflection\, and intuitive movement\, we access our bodies and imagination in order to act on purpose\, serve our collective in our fullest integrity\, and joyfully step into the sun.  \n\n\n\nNo materials are needed\, but feel free to bring supplies to write/draw with\, if that supports your process of integrating information. For more confort you are encourage to bring your own mats\, towels and pillows.  \n\n\n\nRebecca KellyG is a sound artist\, equity strategist\, and facilitator supporting individuals and groups to challenge oppressive conditioned beliefs\, embrace accountability\, and cultivate self-love for our personal and collective liberation. Rebecca weaves intricate vocal harmonies and percussive sounds to create meditative soundscapes\, which are often accompanied with story-telling and affirmations in a unique blend of public speaking and performance. As a former civil rights attorney\, Rebecca’s approach is informed by experience in structural and institutional advocacy and understanding of oppression. As an artist and facilitator\, her methods are led by heart\, inquiry\, and intuitive communication. With over a decade of experience in the arts and social change\, she engages in this work through workshops\, immersive sound experiences\, consulting\, and retreats. Connect with Rebecca at www.rebeccakellyg.com\, on Instagram @rebeccakelly_g\, or through her sounds available on all streaming platforms.  \n\n\n\nThis program is part of the current exhibition in our LES gallery The Voice of Many\, The Voice of One: Collective Actions for Resistance and Mutual Aid \n\n\n\n\n\n\n\nRSVP to this event on Eventbrite
URL:https://www.fluxfactory.org/event/ceremony-self-care-for-collective-liberation-by-rebecca-kellyg/
LOCATION:The Clemente Center\, 107 Suffolk Street\, Manhattan
CATEGORIES:Homepage Events
ATTACH;FMTTYPE=image/png:https://www.fluxfactory.org/wp-content/uploads/2023/01/Ceremony-Self-Care-for-Collective-Liberation-by-Rebecca-KellyG.png
END:VEVENT
END:VCALENDAR