BEGIN:VCALENDAR
VERSION:2.0
PRODID:-//Flux Factory - ECPv6.15.20//NONSGML v1.0//EN
CALSCALE:GREGORIAN
METHOD:PUBLISH
X-WR-CALNAME:Flux Factory
X-ORIGINAL-URL:https://www.fluxfactory.org
X-WR-CALDESC:Events for Flux Factory
REFRESH-INTERVAL;VALUE=DURATION:PT1H
X-Robots-Tag:noindex
X-PUBLISHED-TTL:PT1H
BEGIN:VTIMEZONE
TZID:America/New_York
BEGIN:DAYLIGHT
TZOFFSETFROM:-0500
TZOFFSETTO:-0400
TZNAME:EDT
DTSTART:20220313T070000
END:DAYLIGHT
BEGIN:STANDARD
TZOFFSETFROM:-0400
TZOFFSETTO:-0500
TZNAME:EST
DTSTART:20221106T060000
END:STANDARD
BEGIN:DAYLIGHT
TZOFFSETFROM:-0500
TZOFFSETTO:-0400
TZNAME:EDT
DTSTART:20230312T070000
END:DAYLIGHT
BEGIN:STANDARD
TZOFFSETFROM:-0400
TZOFFSETTO:-0500
TZNAME:EST
DTSTART:20231105T060000
END:STANDARD
BEGIN:DAYLIGHT
TZOFFSETFROM:-0500
TZOFFSETTO:-0400
TZNAME:EDT
DTSTART:20240310T070000
END:DAYLIGHT
BEGIN:STANDARD
TZOFFSETFROM:-0400
TZOFFSETTO:-0500
TZNAME:EST
DTSTART:20241103T060000
END:STANDARD
END:VTIMEZONE
BEGIN:VEVENT
DTSTART;TZID=America/New_York:20230204T130000
DTEND;TZID=America/New_York:20230204T140000
DTSTAMP:20260422T144125
CREATED:20230202T191801Z
LAST-MODIFIED:20231020T163520Z
UID:31934-1675515600-1675519200@www.fluxfactory.org
SUMMARY:Chrysalis Kali: Pay Salutation
DESCRIPTION:Join us for an artist talk and performance with Caroline Garcia and the Chrysalis Kali Collective.  \n\n\n\nPay Salutation is a somatic exploration of Kali – the national martial art of the Philippines\, also known as Arnis/Escrima/Eskrima. It is a system that emphasizes weapon-based fighting with sticks\, knives\, bladed weapons\, and various improvised weapons\, as well as “open hand” techniques. \n\n\n\nThis performance opens up a deeper dive into the potentials of Kali when one is not operating in the reactive modes of fight\, flight\, or freeze. It offers slowness as an aesthetic platform for somatic curiosity and assessment\, as well as offensive drills and combinations to demonstrate the importance of repetition and practice\, all useful techniques in the spectrum of healing collective trauma. \n\n\n\nPerformed by members of the Chrysalis Kali Collective (including Katrina Cabanban\, Caroline Garcia\, Kimberly Tate\, and founder\, Kristen Cabildo)\, they define themselves as “a group of Filipina/x women redefining power\, reclaiming ancestral wisdom\, and restoring resilience through the practice of Kali\, Filipino Martial Arts.”  \n\n\n\nT﻿he program will start at 1:00PM with a 15 min performance followed by a conversation between Caroline Garcia\, the Chrysalis Kali Collective members and curator Natalia Nakazawa.  \n\n\n\nPerformers: Caroline Garcia\, Kristen Cabildo\, Katrina Cabanban\, Kimberly Tate \n\n\n\n\n\n\n\nRSVP for the event on Eventbrite
URL:https://www.fluxfactory.org/event/chrysalis-kali-pay-salutation/
LOCATION:The Clemente Center\, 107 Suffolk Street\, Manhattan
CATEGORIES:Homepage Events
ATTACH;FMTTYPE=image/jpeg:https://www.fluxfactory.org/wp-content/uploads/2023/02/photo_2023-02-02-2.10.53-ПП.jpeg
END:VEVENT
END:VCALENDAR