BEGIN:VCALENDAR
VERSION:2.0
PRODID:-//Flux Factory - ECPv6.15.20//NONSGML v1.0//EN
CALSCALE:GREGORIAN
METHOD:PUBLISH
X-WR-CALNAME:Flux Factory
X-ORIGINAL-URL:https://www.fluxfactory.org
X-WR-CALDESC:Events for Flux Factory
REFRESH-INTERVAL;VALUE=DURATION:PT1H
X-Robots-Tag:noindex
X-PUBLISHED-TTL:PT1H
BEGIN:VTIMEZONE
TZID:America/New_York
BEGIN:DAYLIGHT
TZOFFSETFROM:-0500
TZOFFSETTO:-0400
TZNAME:EDT
DTSTART:20220313T070000
END:DAYLIGHT
BEGIN:STANDARD
TZOFFSETFROM:-0400
TZOFFSETTO:-0500
TZNAME:EST
DTSTART:20221106T060000
END:STANDARD
BEGIN:DAYLIGHT
TZOFFSETFROM:-0500
TZOFFSETTO:-0400
TZNAME:EDT
DTSTART:20230312T070000
END:DAYLIGHT
BEGIN:STANDARD
TZOFFSETFROM:-0400
TZOFFSETTO:-0500
TZNAME:EST
DTSTART:20231105T060000
END:STANDARD
BEGIN:DAYLIGHT
TZOFFSETFROM:-0500
TZOFFSETTO:-0400
TZNAME:EDT
DTSTART:20240310T070000
END:DAYLIGHT
BEGIN:STANDARD
TZOFFSETFROM:-0400
TZOFFSETTO:-0500
TZNAME:EST
DTSTART:20241103T060000
END:STANDARD
END:VTIMEZONE
BEGIN:VEVENT
DTSTART;TZID=America/New_York:20230219T130000
DTEND;TZID=America/New_York:20230219T140000
DTSTAMP:20260424T061654
CREATED:20230214T213546Z
LAST-MODIFIED:20231023T183349Z
UID:31949-1676811600-1676815200@www.fluxfactory.org
SUMMARY:The Autonomous Artist - An Artist Talk with Yon Mi Kim & Ariel Mercado
DESCRIPTION:An Artist Talk with Yon Mi Kim & Ariel Mercado\n\n\n\n \n\n\n\nAn afternoon conversation with Yon Mi Kim and Ariel Mercado two of the founding members of The Salon a New York City based cooperative. \n\n\n\nJoin us on Sunday February 19th for an afternoon conversation with Yon Mi Kim and Ariel Mercado two of the founding members of The Salon a New York City based cooperative comprised of working class artists of color. Together they will discuss the content of their featured work within the “The Voice of Many\, The Voice of One: Collective Actions for Resistance and Mutual Aid” show and the urgency of The Salon’s “The Autonomous Artist Manifesto” co-written together.  \n\n\n\nThe afternoon discussion will answer “what role does arts criticism play in creating a more equitable art world?”\, “in what ways does collectivizing support the survival of working class artists of color?” and “What effect does ontological warfare have on continued cultural production? How does contemporary artists combat it?” \n\n\n\nAriel Mercado is a Queer Black Nuyorican conceptual artist from the Bronx who explores the intersections of poetry and visual arts. Their work centers around the domestic space\, transcendental psychology\, consciousness\, the diaspora and ontology. They utilize ritual/performance work to highlight the responsibilities of audiences to artists\, consent\, and trust.  \n\n\n\nTheir work as a program designer & arts administrator is an extension of their arts practice.  \n\n\n\nYon Mi Kim is a first-generation Korean-American artist\, writer\, and educator from Queens\, NY. She uses photography\, sculpture\, poetry\, and installation to explore ideas around domesticity\, family\, memory\, and trauma – weaving together the chasm between intimacy and alienation; love and grief. \n\n\n\nRSVPs to this event on Eventbrite
URL:https://www.fluxfactory.org/event/the-autonomous-artist-an-artist-talk-with-yon-mi-kim-ariel-mercado/
LOCATION:The Clemente Center\, 107 Suffolk Street\, Manhattan
CATEGORIES:Homepage Events
ATTACH;FMTTYPE=image/png:https://www.fluxfactory.org/wp-content/uploads/2023/02/Autonomous-Artists-2.png
END:VEVENT
END:VCALENDAR