BEGIN:VCALENDAR
VERSION:2.0
PRODID:-//Flux Factory - ECPv6.15.20//NONSGML v1.0//EN
CALSCALE:GREGORIAN
METHOD:PUBLISH
X-WR-CALNAME:Flux Factory
X-ORIGINAL-URL:https://www.fluxfactory.org
X-WR-CALDESC:Events for Flux Factory
REFRESH-INTERVAL;VALUE=DURATION:PT1H
X-Robots-Tag:noindex
X-PUBLISHED-TTL:PT1H
BEGIN:VTIMEZONE
TZID:America/New_York
BEGIN:DAYLIGHT
TZOFFSETFROM:-0500
TZOFFSETTO:-0400
TZNAME:EDT
DTSTART:20220313T070000
END:DAYLIGHT
BEGIN:STANDARD
TZOFFSETFROM:-0400
TZOFFSETTO:-0500
TZNAME:EST
DTSTART:20221106T060000
END:STANDARD
BEGIN:DAYLIGHT
TZOFFSETFROM:-0500
TZOFFSETTO:-0400
TZNAME:EDT
DTSTART:20230312T070000
END:DAYLIGHT
BEGIN:STANDARD
TZOFFSETFROM:-0400
TZOFFSETTO:-0500
TZNAME:EST
DTSTART:20231105T060000
END:STANDARD
BEGIN:DAYLIGHT
TZOFFSETFROM:-0500
TZOFFSETTO:-0400
TZNAME:EDT
DTSTART:20240310T070000
END:DAYLIGHT
BEGIN:STANDARD
TZOFFSETFROM:-0400
TZOFFSETTO:-0500
TZNAME:EST
DTSTART:20241103T060000
END:STANDARD
END:VTIMEZONE
BEGIN:VEVENT
DTSTART;TZID=America/New_York:20230329T180000
DTEND;TZID=America/New_York:20230329T210000
DTSTAMP:20260422T080124
CREATED:20230124T183042Z
LAST-MODIFIED:20230328T130034Z
UID:31917-1680112800-1680123600@www.fluxfactory.org
SUMMARY:Flux Factory 2023 Benefit Gala
DESCRIPTION:Purchase gala tickets today Purchase raffle tickets and view the prize list \n\n\n\nDress code: festive attire \n\n\n\nJoin Flux Factory’s community for our first gala since 2019! Proceeds from the big night will support our free public exhibitions and affordable artist-in-residency and Flux Factory reopens its recently purchased building in an exciting new era of sustainability in our thirty year history. \n\n\n\nDJ set by Vinyl RichieLight installation by ChromadeticLive Performance by Poncili CreaciónOpen bar courtesy of Braven Brewing Company\, Grapevine Distributors\, Keg & Lantern\, M. Wells\, Radiant Pig Beer\, Sanzo\, Uni Brand Group\, and Urban Market of LICCatering courtesy of Little Chef Little CafeOnline Raffle from numerous LIC small businesses\, with a prize pool worth $4000 \n\n\n\nGuests of Honor\n\n\n\nPoncili Creación is an art collective\, composed of identical twin brothers Pablo and Efrain Del Hierro from Santurce\, Puerto Rico. Known for their creative and improvisational approach to puppetry\, the brothers use their works as a form of protest and a call to action. \n\n\n\nDavid Picket\, CEO of Gotham Org\, has served for many years on the Brooklyn Academy of Music Board of Trustees and is actively involved with the Cornell English Department Creative Writing Program. Flux Factory will soon partner with Gotham Org to launch its new venue\, Flux IV\, at Gotham Point on the Hunters Point South waterfront. \n\n\n\nThis event would not be possible without our Gala Sponsors\n\n\n\nBarre3\, Bad Habits Astoria\, Bartleby & Sage\, Big Reuse\, Blend Astoria\, Blend LIC\, Blend on the Water\, Book Culture\, Braven Brewing Company\, Brickhouse Ceramic Art Center\, Brooklyn Boulders Queensbridge\, Brooklyn Grange\, Citrico Cafe & Agaveria\, Dive Bar LIC\, Enoteca\, Grapevine Distributors\, John Brown BBQ\, Keg & Lantern \, Lion Physical Therapy\, Little Chef Little Cafe\, M. Wells\, Orangetheory\, Pita Pan\, Quintessential Therapy / The Spiritual Bodega\, Radiant Pig Beer\, The Rabbit Hole\, sLICe & sLICe Astoria\, Strength City\, Sweet Leaf\, Uni Brand Group\, Urban Market of LIC\, and Woodbines \n\n\n\nThank you for our Gala Committee and Supporters\n\n\n\nCarla Nicdao Greco (Gala Coordinator)\, Aliya Bonar\, Amber Musser\, B Entsminger\, Carina Kaufman-Gutiérrez\, Frank Wu\, Haiba Hamilton\, Hannah Huston\, Hannah Schutzengel\, Liz Dunn\, Maria Varona\, Maxwell Neely-Cohen\, Melanie Cohn\, Mike Lawrence\, Morgan Meis\, Natalia Nakazawa\, Natsuko Komatsu\, Janis Suess\, Jake Pratt\, Jason Brown\, Jean Barberis\, Jennie Lamensdorf\, Robert Roe\, Rodrigo Sanchez\, Roy Dahlinger\, Sarah Frazier\, Sallie Sanders\, Sarah Weitlauf\, Scott Hirst\, Sean McIntyre\, Thomas Iglehart\, Will Owen \n\n\n\nThis event would not be possible without our Gala Sponsors
URL:https://www.fluxfactory.org/event/flux-factory-benefit-gala-2023/
LOCATION:The Clemente Center’s Flamboyán Theater\, 107 Suffolk St\, Manhattan
CATEGORIES:Homepage Events
ATTACH;FMTTYPE=image/jpeg:https://www.fluxfactory.org/wp-content/uploads/2023/01/48087210141_ebd757dd6c_o-scaled-e1674584843922.jpg
END:VEVENT
END:VCALENDAR