BEGIN:VCALENDAR
VERSION:2.0
PRODID:-//Flux Factory - ECPv6.15.20//NONSGML v1.0//EN
CALSCALE:GREGORIAN
METHOD:PUBLISH
X-ORIGINAL-URL:https://www.fluxfactory.org
X-WR-CALDESC:Events for Flux Factory
REFRESH-INTERVAL;VALUE=DURATION:PT1H
X-Robots-Tag:noindex
X-PUBLISHED-TTL:PT1H
BEGIN:VTIMEZONE
TZID:America/New_York
BEGIN:DAYLIGHT
TZOFFSETFROM:-0500
TZOFFSETTO:-0400
TZNAME:EDT
DTSTART:20220313T070000
END:DAYLIGHT
BEGIN:STANDARD
TZOFFSETFROM:-0400
TZOFFSETTO:-0500
TZNAME:EST
DTSTART:20221106T060000
END:STANDARD
BEGIN:DAYLIGHT
TZOFFSETFROM:-0500
TZOFFSETTO:-0400
TZNAME:EDT
DTSTART:20230312T070000
END:DAYLIGHT
BEGIN:STANDARD
TZOFFSETFROM:-0400
TZOFFSETTO:-0500
TZNAME:EST
DTSTART:20231105T060000
END:STANDARD
BEGIN:DAYLIGHT
TZOFFSETFROM:-0500
TZOFFSETTO:-0400
TZNAME:EDT
DTSTART:20240310T070000
END:DAYLIGHT
BEGIN:STANDARD
TZOFFSETFROM:-0400
TZOFFSETTO:-0500
TZNAME:EST
DTSTART:20241103T060000
END:STANDARD
END:VTIMEZONE
BEGIN:VEVENT
DTSTART;TZID=America/New_York:20230527T120000
DTEND;TZID=America/New_York:20230527T210000
DTSTAMP:20260422T063441
CREATED:20230512T143022Z
LAST-MODIFIED:20230512T143026Z
UID:32065-1685188800-1685221200@www.fluxfactory.org
SUMMARY:May Flux Saturday
DESCRIPTION:indoors and front lawn area \n\n\n\nGovernors Island \n\n\n\nJoin us for our first Flux Saturday and celebrate a new season as an Organization-in-Residence on Governors Island! \n\n\n\nWelcome to Flux Island picnic 12 pm – 3 pm  \n\n\n\nKaraoke 3 pm – 9 pm \n\n\n\nFlux Factory will host Flux Saturdays on the last Saturday each month from May through October. Organized by different artists each month\, the program will take many forms including pop-up exhibitions\, performances\, workshops\, screenings\, artist presentations and more.
URL:https://www.fluxfactory.org/event/may-flux-saturday/
LOCATION:Governors Island\, Colonels Row House 404A
CATEGORIES:Homepage Events,Welcome to Flux Island Events
ATTACH;FMTTYPE=image/jpeg:https://www.fluxfactory.org/wp-content/uploads/2023/05/Flux-Governors-Island-2023.jpeg
END:VEVENT
END:VCALENDAR