BEGIN:VCALENDAR
VERSION:2.0
PRODID:-//Flux Factory - ECPv6.15.20//NONSGML v1.0//EN
CALSCALE:GREGORIAN
METHOD:PUBLISH
X-WR-CALNAME:Flux Factory
X-ORIGINAL-URL:https://www.fluxfactory.org
X-WR-CALDESC:Events for Flux Factory
REFRESH-INTERVAL;VALUE=DURATION:PT1H
X-Robots-Tag:noindex
X-PUBLISHED-TTL:PT1H
BEGIN:VTIMEZONE
TZID:America/New_York
BEGIN:DAYLIGHT
TZOFFSETFROM:-0500
TZOFFSETTO:-0400
TZNAME:EDT
DTSTART:20230312T070000
END:DAYLIGHT
BEGIN:STANDARD
TZOFFSETFROM:-0400
TZOFFSETTO:-0500
TZNAME:EST
DTSTART:20231105T060000
END:STANDARD
BEGIN:DAYLIGHT
TZOFFSETFROM:-0500
TZOFFSETTO:-0400
TZNAME:EDT
DTSTART:20240310T070000
END:DAYLIGHT
BEGIN:STANDARD
TZOFFSETFROM:-0400
TZOFFSETTO:-0500
TZNAME:EST
DTSTART:20241103T060000
END:STANDARD
BEGIN:DAYLIGHT
TZOFFSETFROM:-0500
TZOFFSETTO:-0400
TZNAME:EDT
DTSTART:20250309T070000
END:DAYLIGHT
BEGIN:STANDARD
TZOFFSETFROM:-0400
TZOFFSETTO:-0500
TZNAME:EST
DTSTART:20251102T060000
END:STANDARD
END:VTIMEZONE
BEGIN:VEVENT
DTSTART;TZID=America/New_York:20240601T170000
DTEND;TZID=America/New_York:20240601T210000
DTSTAMP:20260422T093957
CREATED:20240529T182039Z
LAST-MODIFIED:20240529T182050Z
UID:38373-1717261200-1717275600@www.fluxfactory.org
SUMMARY:Jessica Pavone Performance and Flux IV Reception
DESCRIPTION:Meet us beginning at 5pm for a special reception at Flux IV\, with 17 works on view in our Saturn Return Group Exhibition. \n\n\n\nAs the golden hour approaches (~7:45)\, we’ll walk from Flux IV a few minutes away to sit on the grassy park lawn and watch a live sunset solo viola performance by Jessica Pavone in front of the Manhattan skyline.
URL:https://www.fluxfactory.org/event/jessica-pavone-performance-and-flux-iv-reception/
LOCATION:Flux IV\, 56-21 2nd St\, Long Island City
CATEGORIES:Flux IV,Homepage Events
ATTACH;FMTTYPE=image/jpeg:https://www.fluxfactory.org/wp-content/uploads/2024/05/Jessica-Pavone-by-Shawn-Poynter-2023.jpeg
END:VEVENT
BEGIN:VEVENT
DTSTART;TZID=America/New_York:20240615T120000
DTEND;TZID=America/New_York:20240615T170000
DTSTAMP:20260422T093958
CREATED:20240529T184805Z
LAST-MODIFIED:20240529T190535Z
UID:38376-1718452800-1718470800@www.fluxfactory.org
SUMMARY:June Flux Saturday — Saturn Return
DESCRIPTION:Flux Factory is celebrating its big thirtieth anniversary by exhibiting 37 alumni of our Artists-in-Residence program in Saturn Return\, on view at Flux IV and Governors Island until July 1. For June’s Flux Saturday on Governors Island\, we host performances including a set by DJ Smallcock.
URL:https://www.fluxfactory.org/event/june-flux-saturday-saturn-return/
LOCATION:Governors Island\, Colonels Row House 404A
CATEGORIES:Homepage Events,Welcome to Flux Island Events
ATTACH;FMTTYPE=image/png:https://www.fluxfactory.org/wp-content/uploads/2024/05/SCREENSHOT_10.png
END:VEVENT
BEGIN:VEVENT
DTSTART;TZID=America/New_York:20240617T193000
DTEND;TZID=America/New_York:20240617T230000
DTSTAMP:20260422T093958
CREATED:20240606T212032Z
LAST-MODIFIED:20250313T171054Z
UID:38990-1718652600-1718665200@www.fluxfactory.org
SUMMARY:Striped Light & Lucas Abela present Frankenstein 3
DESCRIPTION:RSVP to stripedlight.nyc@gmail.com for visiting detailsDoors at 7:30\, performances begin at 8$15 admission – 100% of the door goes toward performersFollow @striped_light on instagram to stay in the loop for future concerts \n\n\n\n\n\n\n\nOur monthly Mondays Striped Light experimental concert series is in its 8th iteration with a special presentation by Australian sound artist Lucas Abela with Hisham Akira Bharoocha\, Chuck Roth\, Robert Aiki Aubrey Lowe\, Brandon Lopez\, Marcia Bassett\, Samara Lubelski\, Bob Bellerue\, David Watson & Sandy Ewen. \n\n\n\nWe have a super-rare visit to New York by Lucas ‘Granpa’ Abela\, one of the truly stand-out sound artists/performers of our time. Folks\, this one is simply not to be missed. On top of that\, Lucas has put together a nine piece New York super-band to play a Frankenstein assemblage composition that he has made for this occasion: live improvising groups that will be ‘carved up’ in real time. And then stitched together. Kind of.  \n\n\n\nInitially viewed as a turntablist\, Abela’s work has rarely resembled anything or anyone else. Early on he was stabbing vinyl with Kruger-style stylus gloves. Then he drag-raced the pope and pope-mobile across the Sydney Harbour Bridge in a sonic showdown. He has performed deaf defying duels with amplified samurai swords. It was bound to happen\, he was eventually hospitalized by high powered turntables that he’d constructed from motors. He landed pole position on Otomo Yoshihides’ Ground Zero remix compilation ‘Consummation’. And more. Much\, much more. Lucas Abela is simply one of the sharpest artists working today\, cutting a direct path through the same old.
URL:https://www.fluxfactory.org/event/striped-light-lucas-abela-present-frankenstein-3/
CATEGORIES:Homepage Events
ATTACH;FMTTYPE=image/jpeg:https://www.fluxfactory.org/wp-content/uploads/2024/06/unnamed-14.jpg
END:VEVENT
END:VCALENDAR